BEGIN:VCALENDAR
VERSION:2.0
PRODID:-//Chinmaya Mission West - ECPv6.3.1//NONSGML v1.0//EN
CALSCALE:GREGORIAN
METHOD:PUBLISH
X-WR-CALNAME:Chinmaya Mission West
X-ORIGINAL-URL:https://krishnalaya.org
X-WR-CALDESC:Events for Chinmaya Mission West
REFRESH-INTERVAL;VALUE=DURATION:PT1H
X-Robots-Tag:noindex
X-PUBLISHED-TTL:PT1H
BEGIN:VTIMEZONE
TZID:Europe/London
BEGIN:DAYLIGHT
TZOFFSETFROM:+0000
TZOFFSETTO:+0100
TZNAME:BST
DTSTART:20240331T010000
END:DAYLIGHT
BEGIN:STANDARD
TZOFFSETFROM:+0100
TZOFFSETTO:+0000
TZNAME:GMT
DTSTART:20241027T010000
END:STANDARD
END:VTIMEZONE
BEGIN:VEVENT
DTSTART;VALUE=DATE:20240919
DTEND;VALUE=DATE:20240923
DTSTAMP:20260422T220637
CREATED:20240616T135347Z
LAST-MODIFIED:20240618T154929Z
UID:1652-1726704000-1727049599@krishnalaya.org
SUMMARY:Art of Mindshift: National CHYK Retreat 2024
DESCRIPTION:Description: \nFrom September 19th to 22nd Swami Swaroopananda ji\, the global head of Chinmaya Mission\, is conducting a National CHYK Retreat in the serene ashram of Krishanalaya in Piercy\, CA assisted by Brni. Shubhani Chaitanya\, Br. Soham Chaitanya\, and Br. Hari Chaitanya. . We invite all of you to join us for this unique spiritual retreat. \nEARLY BIRD DISCOUNT CLOSES\, AUGUST 2ND \nArt of Mindshift: National CHYK Retreat \nWhen: September 19-22\, 2024 \nWhere: Krishnalaya\, Piercy\, CA \nWho: Young adults ages 18-35 (high school graduates and above) \nRegistration link: https://chykwest.org/national-retreat \n  \n 
URL:https://krishnalaya.org/event/national-chyk-retreat-2024/
CATEGORIES:Honors,Traditions
ATTACH;FMTTYPE=image/jpeg:https://krishnalaya.org/wp-content/uploads/2024/06/National-Chyk-2024.jpg
END:VEVENT
END:VCALENDAR