BEGIN:VCALENDAR
VERSION:2.0
PRODID:-//Chinmaya Mission West - ECPv6.3.1//NONSGML v1.0//EN
CALSCALE:GREGORIAN
METHOD:PUBLISH
X-WR-CALNAME:Chinmaya Mission West
X-ORIGINAL-URL:https://krishnalaya.org
X-WR-CALDESC:Events for Chinmaya Mission West
REFRESH-INTERVAL;VALUE=DURATION:PT1H
X-Robots-Tag:noindex
X-PUBLISHED-TTL:PT1H
BEGIN:VTIMEZONE
TZID:America/Los_Angeles
BEGIN:DAYLIGHT
TZOFFSETFROM:-0800
TZOFFSETTO:-0700
TZNAME:PDT
DTSTART:20240310T100000
END:DAYLIGHT
BEGIN:STANDARD
TZOFFSETFROM:-0700
TZOFFSETTO:-0800
TZNAME:PST
DTSTART:20241103T090000
END:STANDARD
END:VTIMEZONE
BEGIN:VEVENT
DTSTART;VALUE=DATE:20240903
DTEND;VALUE=DATE:20240910
DTSTAMP:20260422T220914
CREATED:20240229T093420Z
LAST-MODIFIED:20240927T120259Z
UID:264-1725321600-1725926399@krishnalaya.org
SUMMARY:2024 Bhagavad-Gita Marathon Retreat Registration
DESCRIPTION:  \nBhagavad Gita Marathon retreat led by Pujya Swami Swaroopananda ji\, Global Head of Chinmaya Mission \n\nChapters 10\, 11 & 12 of Bhagavad Gita \nEvent Timing: From Sept. 3 2024 to Sept. 9 2024 (Delegates should arrive by evening of Monday Sept. 2nd and leave on Sept. 10th after breakfast)\nEvent Address: Chinmaya Mission West\, Krishnalaya\, 83900 CA-271\, Piercy\, CA 95587\n\n\n\nRegistration Fee: $1125.00 \n\nPlease submit your details\, we will get back to you regarding the accommodation in the retreat venue\n\n\n\n \n\nContact Email : gitamarathonretreat@gmail.com\nOverview: Bhagavad Gita Marathon Retreat 3 Overview 2024\nSummary: Bhagavad Gita Marathon Retreat 3 Summary 2024
URL:https://krishnalaya.org/event/2024-bhagavad-gita-marathon-retreat-registration/
CATEGORIES:Honors
ATTACH;FMTTYPE=image/png:https://krishnalaya.org/wp-content/uploads/2018/12/2024-BGM-Flyer.png
END:VEVENT
END:VCALENDAR